BEGIN:VCALENDAR
VERSION:2.0
PRODID:-//House of Movement - ECPv6.6.4.2//NONSGML v1.0//EN
CALSCALE:GREGORIAN
METHOD:PUBLISH
X-WR-CALNAME:House of Movement
X-ORIGINAL-URL:https://www.houseofmovement.no
X-WR-CALDESC:Arrangement for House of Movement
REFRESH-INTERVAL;VALUE=DURATION:PT1H
X-Robots-Tag:noindex
X-PUBLISHED-TTL:PT1H
BEGIN:VTIMEZONE
TZID:Europe/Oslo
BEGIN:DAYLIGHT
TZOFFSETFROM:+0100
TZOFFSETTO:+0200
TZNAME:CEST
DTSTART:20180325T010000
END:DAYLIGHT
BEGIN:STANDARD
TZOFFSETFROM:+0200
TZOFFSETTO:+0100
TZNAME:CET
DTSTART:20181028T010000
END:STANDARD
END:VTIMEZONE
BEGIN:VEVENT
DTSTART;TZID=Europe/Oslo:20180907T080000
DTEND;TZID=Europe/Oslo:20180909T170000
DTSTAMP:20260425T020947
CREATED:20180108T140850Z
LAST-MODIFIED:20180108T140850Z
UID:39531-1536307200-1536512400@www.houseofmovement.no
SUMMARY:Intensive Reformer Level 1 (IR)
DESCRIPTION:STOTT PILATES® utdanner instruktører verden over\, og er anerkjent for bra og grundige utdannelser.  \nKurset IR lærer deg som har erfaring med trening eller behandling hvordan du skal sette opp en klasse og lede trening i Reformer Essential og Intermediate. Vi anbefaler at du går kurset IMP innen du begynner på IR. \nKursholdere er fra vår samarbeidspartner Stockholm Pilates Center \n  \nKurset gir deg også følgende kunnskaper:  \n\nSTOTT PILATES® fem grunnprinsipper\nTreningsprogram for grupper og privat trening.\nEssential-\, Intermediate go Power- trening.\nEffektiv bruk av Reformeren for å øke core-styrken og stabilitet i ledd\, og trene balanse og koordinasjon.\nEffektiv kommunikasjon og visualisering.\nVerbale teknikker og innsikt i hva som forbedrer treningsresultatene og øker kundemotivasjonen.\nTeori og praktisk kroppsanalyse\nForståelse for ulike kroppstyper.\n139 øvelser med flere variasjoner for ulike kroppstyper og behov.\nHvordan du øker intensiteten i treningen gjennom å bruke redskap som motstand.\n\n  \nForkunnskaper \n\nGrunnkunnskaper om anatomi og treningslære.\nPilatestrening\nErfaring som instruktør.\nIMP anbefales.\n\n  \nFor sertifisering i Reformer kreves:  \n\n50 timer instruksjon og lærerledet undervisning\, fordelt på ti dager.\nMinst 10 timers observasjon.\nMinst 40 timer ege trening.\nMinst 25 timers praksis som lærer.\n\n  \nFølg oss gjerne på vår egen Facebook-gruppe Pilates Utdanning Norge. \n\n\n\n\n\n\n\n\n\n\n\n\n\n\n\n\n\n\n\n\n\nDato og tider for IR 2018\n\n\n\n\n\n\n\n\n\n\n\n\n\n2018\nIR – Stavanger kommer neste gang  2018 \n7/9: kl 14-20 \n8-9/9: kl 10-16 \n21/9: kl 14-20 \n22-23/9: kl 10-16 \n18/10 kl 14-20 \n19-21/10 kl 10-16 \n\n\n\n\n\n\n\n\n\n\n\n\n\nPris\n17 875SEK inkl. 25% moms. \nMer informasjon: www.pilates-center.se \nPåmelding: utbildning@pilates-center.se \n\n\n\n\n\n\n\n\n\n\n\n\n\nUnder kurshelgen og i perioden mellom første og andre helg\, får du trene gratis på House of Movement. Dette gjelder ledige plasser på våre Reformer-klasser\, og ikke booking på forhånd.
URL:https://www.houseofmovement.no/arrangement/intensive-reformer-level-1-ir/
LOCATION:House of Movement\, St. Svithunsgate 12\, Stavanger\, 4008
ATTACH;FMTTYPE=image/jpeg:https://www.houseofmovement.no/wp-content/uploads/2017/12/IMG_9330.jpg
ORGANIZER;CN="House of Movement":MAILTO:post@houseofmovement.no
END:VEVENT
END:VCALENDAR