BEGIN:VCALENDAR
VERSION:2.0
PRODID:-//House of Movement - ECPv6.6.4.2//NONSGML v1.0//EN
CALSCALE:GREGORIAN
METHOD:PUBLISH
X-WR-CALNAME:House of Movement
X-ORIGINAL-URL:https://www.houseofmovement.no
X-WR-CALDESC:Arrangement for House of Movement
REFRESH-INTERVAL;VALUE=DURATION:PT1H
X-Robots-Tag:noindex
X-PUBLISHED-TTL:PT1H
BEGIN:VTIMEZONE
TZID:Europe/Oslo
BEGIN:DAYLIGHT
TZOFFSETFROM:+0100
TZOFFSETTO:+0200
TZNAME:CEST
DTSTART:20180325T010000
END:DAYLIGHT
BEGIN:STANDARD
TZOFFSETFROM:+0200
TZOFFSETTO:+0100
TZNAME:CET
DTSTART:20181028T010000
END:STANDARD
END:VTIMEZONE
BEGIN:VEVENT
DTSTART;VALUE=DATE:20180510
DTEND;VALUE=DATE:20180515
DTSTAMP:20260424T225201
CREATED:20171127T134915Z
LAST-MODIFIED:20171127T135242Z
UID:39460-1525917600-1526263199@www.houseofmovement.no
SUMMARY:STOTT Pilates Matwork Utdanning\, IMP
DESCRIPTION:En grunnleggende utdanning i Pilates på matte \nDette kurset gir deg alle grunnkunskaper og spesialkompetanse du trenger for å holde effektive og motiverende gruppetreninger i matte\, og instruere pilates enetimer. Etter avsluttet utdanning er du kvalifisert til å sette sammen en treningstime og lede trening i Matwork Essential og Intermediate\, å bruke mindre redskaper og møte spesielle behov hos dine klienter. \nKurset passer for deg som ønsker å bli pilates-instruktør eller som ønsker å utdype dine kunnskaper om pilates for din egen trening. \n26/4 -29/4\n10/5-13/5 \nSTOTT PILATES® utdanner instruktører verden over\, og er anerkjent for bra og grundige utdannelser. Dette er omfattende og krevende utdannelser i pilates.
URL:https://www.houseofmovement.no/arrangement/stott-pilates-matwork-utdanning-imp-2/
LOCATION:House of Movement\, St. Svithunsgate 12\, Stavanger\, 4008
ORGANIZER;CN="House of Movement":MAILTO:post@houseofmovement.no
END:VEVENT
END:VCALENDAR