BEGIN:VCALENDAR
VERSION:2.0
PRODID:-//House of Movement - ECPv6.6.4.2//NONSGML v1.0//EN
CALSCALE:GREGORIAN
METHOD:PUBLISH
X-WR-CALNAME:House of Movement
X-ORIGINAL-URL:https://www.houseofmovement.no
X-WR-CALDESC:Arrangement for House of Movement
REFRESH-INTERVAL;VALUE=DURATION:PT1H
X-Robots-Tag:noindex
X-PUBLISHED-TTL:PT1H
BEGIN:VTIMEZONE
TZID:Europe/Oslo
BEGIN:DAYLIGHT
TZOFFSETFROM:+0100
TZOFFSETTO:+0200
TZNAME:CEST
DTSTART:20180325T010000
END:DAYLIGHT
BEGIN:STANDARD
TZOFFSETFROM:+0200
TZOFFSETTO:+0100
TZNAME:CET
DTSTART:20181028T010000
END:STANDARD
END:VTIMEZONE
BEGIN:VEVENT
DTSTART;TZID=Europe/Oslo:20180118T130000
DTEND;TZID=Europe/Oslo:20180118T140000
DTSTAMP:20260424T154847
CREATED:20180109T131028Z
LAST-MODIFIED:20180109T131215Z
UID:39566-1516280400-1516284000@www.houseofmovement.no
SUMMARY:Oppstart 60+ kurs
DESCRIPTION:
URL:https://www.houseofmovement.no/arrangement/oppstart-60-kurs-2/
LOCATION:House of Movement\, St. Svithunsgate 12\, Stavanger\, 4008
ORGANIZER;CN="House of Movement":MAILTO:post@houseofmovement.no
END:VEVENT
BEGIN:VEVENT
DTSTART;TZID=Europe/Oslo:20180118T190000
DTEND;TZID=Europe/Oslo:20180118T200000
DTSTAMP:20260424T154847
CREATED:20180109T131606Z
LAST-MODIFIED:20180109T131606Z
UID:39568-1516302000-1516305600@www.houseofmovement.no
SUMMARY:Oppstart gravid yogakurs
DESCRIPTION:
URL:https://www.houseofmovement.no/arrangement/oppstart-gravid-yogakurs/
LOCATION:House of Movement\, St. Svithunsgate 12\, Stavanger\, 4008
ORGANIZER;CN="House of Movement":MAILTO:post@houseofmovement.no
END:VEVENT
END:VCALENDAR