BEGIN:VCALENDAR
VERSION:2.0
PRODID:-//House of Movement - ECPv6.6.4.2//NONSGML v1.0//EN
CALSCALE:GREGORIAN
METHOD:PUBLISH
X-WR-CALNAME:House of Movement
X-ORIGINAL-URL:https://www.houseofmovement.no
X-WR-CALDESC:Arrangement for House of Movement
REFRESH-INTERVAL;VALUE=DURATION:PT1H
X-Robots-Tag:noindex
X-PUBLISHED-TTL:PT1H
BEGIN:VTIMEZONE
TZID:Europe/Oslo
BEGIN:DAYLIGHT
TZOFFSETFROM:+0100
TZOFFSETTO:+0200
TZNAME:CEST
DTSTART:20180325T010000
END:DAYLIGHT
BEGIN:STANDARD
TZOFFSETFROM:+0200
TZOFFSETTO:+0100
TZNAME:CET
DTSTART:20181028T010000
END:STANDARD
END:VTIMEZONE
BEGIN:VEVENT
DTSTART;TZID=Europe/Oslo:20180109T102000
DTEND;TZID=Europe/Oslo:20180109T112000
DTSTAMP:20260424T154839
CREATED:20180109T130759Z
LAST-MODIFIED:20180109T132417Z
UID:39564-1515493200-1515496800@www.houseofmovement.no
SUMMARY:Oppstart yogakurs dagtid
DESCRIPTION:
URL:https://www.houseofmovement.no/arrangement/yoga-dagtid-kurs/
LOCATION:House of Movement\, St. Svithunsgate 12\, Stavanger\, 4008
ATTACH;FMTTYPE=image/png:https://www.houseofmovement.no/wp-content/uploads/2018/01/25511756_1300937686677553_2571421848105385984_n.png
ORGANIZER;CN="House of Movement":MAILTO:post@houseofmovement.no
END:VEVENT
BEGIN:VEVENT
DTSTART;TZID=Europe/Oslo:20180109T131500
DTEND;TZID=Europe/Oslo:20180109T141500
DTSTAMP:20260424T154839
CREATED:20180109T115826Z
LAST-MODIFIED:20180109T121134Z
UID:39546-1515503700-1515507300@www.houseofmovement.no
SUMMARY:Oppstart 60+ kurs
DESCRIPTION:Trening tilpasset deg som anser deg selv som godt voksen. Pilates gir økt styrke\, bevegelighet og koordinasjon\, samt bedre holdning\, pust og avspenning. Mange fysioterapeuter\, naprapater og kiropraktorer anbefaler pilates både som trening og rehabilitering. Det er bevisst lagt opp til få deltagere per kurs\, dette for å sørge for at du får best mulig oppfølging og kvalitet i treningen. Treningen har ingen aldersgrense\, og tilrettelegges etter dine behov. Velkommen til trening for en bedre hverdag!\n\nKurset er satt opp 8x treninger i 8 uker
URL:https://www.houseofmovement.no/arrangement/oppstart-60-kurs/
LOCATION:House of Movement\, St. Svithunsgate 12\, Stavanger\, 4008
ORGANIZER;CN="House of Movement":MAILTO:post@houseofmovement.no
END:VEVENT
END:VCALENDAR