BEGIN:VCALENDAR
VERSION:2.0
PRODID:-//House of Movement - ECPv6.6.4.2//NONSGML v1.0//EN
CALSCALE:GREGORIAN
METHOD:PUBLISH
X-WR-CALNAME:House of Movement
X-ORIGINAL-URL:https://www.houseofmovement.no
X-WR-CALDESC:Arrangement for House of Movement
REFRESH-INTERVAL;VALUE=DURATION:PT1H
X-Robots-Tag:noindex
X-PUBLISHED-TTL:PT1H
BEGIN:VTIMEZONE
TZID:Europe/Oslo
BEGIN:DAYLIGHT
TZOFFSETFROM:+0100
TZOFFSETTO:+0200
TZNAME:CEST
DTSTART:20170326T010000
END:DAYLIGHT
BEGIN:STANDARD
TZOFFSETFROM:+0200
TZOFFSETTO:+0100
TZNAME:CET
DTSTART:20171029T010000
END:STANDARD
END:VTIMEZONE
BEGIN:VEVENT
DTSTART;TZID=Europe/Oslo:20171210T090000
DTEND;TZID=Europe/Oslo:20171210T120000
DTSTAMP:20260424T140803
CREATED:20171102T142401Z
LAST-MODIFIED:20171102T142510Z
UID:39442-1512896400-1512907200@www.houseofmovement.no
SUMMARY:Magnus Ringberg\, Matwork\, Barre og Foam roller klasser
DESCRIPTION:Magnus Ringberg kommer til Stavanger og du har flere muligheter for å få med deg noen klasser med han. \nMATWORK kl 9.00-10.00\nMed din egen kroppsvikt får du röra dig i sekvenser som inspirerar och utmanar. För dig som tränar yoga\, pilates eller liknande träning och vill skapa kännedom och kontakt. \nBARRE kl 10.10-11.10\nMagnus använder barren som ett hjälpmedel så att du kan träna din rörlighet kring hela kroppen. I flödande sekvenser får du mjukt och elastiskt skapa mer plats kring höfter\, rygg och skuldror. \nFOAM ROLLER KL 11.15-12.15
URL:https://www.houseofmovement.no/arrangement/magnus-ringberg-matwork-barre-foam-roller-klasser/
LOCATION:House of Movement\, St. Svithunsgate 12\, Stavanger\, 4008
ATTACH;FMTTYPE=image/jpeg:https://www.houseofmovement.no/wp-content/uploads/2017/11/21369266_1922003711455344_5157390687992018362_n.jpg
ORGANIZER;CN="House of Movement":MAILTO:post@houseofmovement.no
END:VEVENT
END:VCALENDAR