BEGIN:VCALENDAR
VERSION:2.0
PRODID:-//House of Movement - ECPv6.6.4.2//NONSGML v1.0//EN
CALSCALE:GREGORIAN
METHOD:PUBLISH
X-ORIGINAL-URL:https://www.houseofmovement.no
X-WR-CALDESC:Arrangement for House of Movement
REFRESH-INTERVAL;VALUE=DURATION:PT1H
X-Robots-Tag:noindex
X-PUBLISHED-TTL:PT1H
BEGIN:VTIMEZONE
TZID:Europe/Oslo
BEGIN:DAYLIGHT
TZOFFSETFROM:+0100
TZOFFSETTO:+0200
TZNAME:CEST
DTSTART:20170326T010000
END:DAYLIGHT
BEGIN:STANDARD
TZOFFSETFROM:+0200
TZOFFSETTO:+0100
TZNAME:CET
DTSTART:20171029T010000
END:STANDARD
END:VTIMEZONE
BEGIN:VEVENT
DTSTART;TZID=Europe/Oslo:20171201T150000
DTEND;TZID=Europe/Oslo:20171201T163000
DTSTAMP:20260424T125448
CREATED:20171102T140141Z
LAST-MODIFIED:20171102T140340Z
UID:39433-1512140400-1512145800@www.houseofmovement.no
SUMMARY:Pilates Advanced Matwork
DESCRIPTION:Er du klar for en utfordrende klasse med pilates advanced øvelser? Her blir det god flyt i spennende sekvenser\, hvor du får utfordret både kropp og hode.\nAbsolutt en deilig måte å kick-starte helgen på. \nAvsluttes med 15 minutter avspenning \nInstruktør: Anette Bonnez\nPris: 350\nFredag 1 desember kl 15-16.30.\nBooking: https://www.houseofmovement.no/kurs-workshops/ \nVelkommen!
URL:https://www.houseofmovement.no/arrangement/pilates-advanced-matwork/
LOCATION:House of Movement\, St. Svithunsgate 12\, Stavanger\, 4008
ORGANIZER;CN="House of Movement":MAILTO:post@houseofmovement.no
END:VEVENT
END:VCALENDAR