BEGIN:VCALENDAR
VERSION:2.0
PRODID:-//House of Movement - ECPv6.6.4.2//NONSGML v1.0//EN
CALSCALE:GREGORIAN
METHOD:PUBLISH
X-WR-CALNAME:House of Movement
X-ORIGINAL-URL:https://www.houseofmovement.no
X-WR-CALDESC:Arrangement for House of Movement
REFRESH-INTERVAL;VALUE=DURATION:PT1H
X-Robots-Tag:noindex
X-PUBLISHED-TTL:PT1H
BEGIN:VTIMEZONE
TZID:Europe/Oslo
BEGIN:DAYLIGHT
TZOFFSETFROM:+0100
TZOFFSETTO:+0200
TZNAME:CEST
DTSTART:20170326T010000
END:DAYLIGHT
BEGIN:STANDARD
TZOFFSETFROM:+0200
TZOFFSETTO:+0100
TZNAME:CET
DTSTART:20171029T010000
END:STANDARD
END:VTIMEZONE
BEGIN:VEVENT
DTSTART;TZID=Europe/Oslo:20171109T180000
DTEND;TZID=Europe/Oslo:20171109T200000
DTSTAMP:20260424T121910
CREATED:20171102T135042Z
LAST-MODIFIED:20171102T135305Z
UID:39429-1510250400-1510257600@www.houseofmovement.no
SUMMARY:Mat og drikke for god tarmhelse
DESCRIPTION:På dette kurset lager vi mat som er godt for tarmen\, som «restaurerer» fordøyelsen og demper betennelser i kroppen. Du lærer å lage kraft\, fermentert mat og drikke\, samt hvordan bake sunnere brød\, slik som de gjorde for mange år tilbake. Du får også tips til hva du bør styre unna for å unngå betennelser i kroppen\, og hva du kan erstatte det med.\nGode råvarer er den beste medisin. Ved å jobbe med å bedre tarmhelsen\, opplever mange at de blant annet får økt energi\, bedre fokus\, mindre smerter\, sunnere hud\, bedre hormonbalanse\, økt metabolisme og mindre plager med allergi. \nPris: 550\, – inkludert smaksprøver og oppskriftshefte\nKursholder: Margrete Ytreland\nPåmelding: mail til margrete@margitvea.no eller send sms til 92063415.\nHar du spørsmål\, kan du sende en e-post: margrete@margitvea.no
URL:https://www.houseofmovement.no/arrangement/mat-drikke-tarmhelse/
LOCATION:House of Movement\, St. Svithunsgate 12\, Stavanger\, 4008
ORGANIZER;CN="House of Movement":MAILTO:post@houseofmovement.no
END:VEVENT
END:VCALENDAR