BEGIN:VCALENDAR
VERSION:2.0
PRODID:-//House of Movement - ECPv6.6.4.2//NONSGML v1.0//EN
CALSCALE:GREGORIAN
METHOD:PUBLISH
X-WR-CALNAME:House of Movement
X-ORIGINAL-URL:https://www.houseofmovement.no
X-WR-CALDESC:Arrangement for House of Movement
REFRESH-INTERVAL;VALUE=DURATION:PT1H
X-Robots-Tag:noindex
X-PUBLISHED-TTL:PT1H
BEGIN:VTIMEZONE
TZID:Europe/Oslo
BEGIN:DAYLIGHT
TZOFFSETFROM:+0100
TZOFFSETTO:+0200
TZNAME:CEST
DTSTART:20170326T010000
END:DAYLIGHT
BEGIN:STANDARD
TZOFFSETFROM:+0200
TZOFFSETTO:+0100
TZNAME:CET
DTSTART:20171029T010000
END:STANDARD
END:VTIMEZONE
BEGIN:VEVENT
DTSTART;TZID=Europe/Oslo:20171108T093000
DTEND;TZID=Europe/Oslo:20171108T103000
DTSTAMP:20260422T180348
CREATED:20171102T143039Z
LAST-MODIFIED:20171102T143124Z
UID:39446-1510133400-1510137000@www.houseofmovement.no
SUMMARY:Restorativ Yin kurs with Anette Mæle
DESCRIPTION:Hjertelig velkommen til Restorativ Yin kurs/klasse der vi boltrer oss i en deilig blanding av det beste Yin og Restorativ Yoga har å by på. Vi vil fokusere på rolig strekk og mykgjøring av muskulatur og bindevev samt avspenne kropp og sinn med en hjertelig intensjon av trygghet. Selvsagt bruker vi bostere\, tepper og blokker for max velvære og klassen avsluttes alltid med nakkemassasje og yoganidra-guided avspenning.\n\n950 kroner for 6 x kurs\nI tilleggg får du 2 gratis klipp for åpne klasser\n\nVi kjører kurs med min 5 deltagere.
URL:https://www.houseofmovement.no/arrangement/39446/
LOCATION:House of Movement\, St. Svithunsgate 12\, Stavanger\, 4008
ORGANIZER;CN="House of Movement":MAILTO:post@houseofmovement.no
END:VEVENT
BEGIN:VEVENT
DTSTART;TZID=Europe/Oslo:20171108T180000
DTEND;TZID=Europe/Oslo:20171108T200000
DTSTAMP:20260422T180348
CREATED:20171102T132957Z
LAST-MODIFIED:20171102T140444Z
UID:39425-1510164000-1510171200@www.houseofmovement.no
SUMMARY:Mat og drikke som tarmen liker
DESCRIPTION:På dette kurset lager vi mat som er godt for tarmen\, som «restaurerer» fordøyelsen og demper betennelser i kroppen. Du lærer å lage kraft\, fermentert mat og drikke\, samt hvordan bake sunnere brød\, slik som de gjorde for mange år tilbake. Du får også tips til hva du bør styre unna for å unngå betennelser i kroppen\, og hva du kan erstatte det med.\nGode råvarer er den beste medisin. Ved å jobbe med å bedre tarmhelsen\, opplever mange at de blant annet får økt energi\, bedre fokus\, mindre smerter\, sunnere hud\, bedre hormonbalanse\, økt metabolisme og mindre plager med allergi. \nPris: 550\, – inkludert smaksprøver og oppskriftshefte\nKursholder: Margrete Ytreland\nPåmelding: mail til margrete@margitvea.no eller send sms til 92063415.\nHar du spørsmål\, kan du sende en e-post: margrete@margitvea.no
URL:https://www.houseofmovement.no/arrangement/mat-drikke-tarmen-liker/
LOCATION:House of Movement\, St. Svithunsgate 12\, Stavanger\, 4008
ORGANIZER;CN="House of Movement":MAILTO:post@houseofmovement.no
END:VEVENT
END:VCALENDAR