BEGIN:VCALENDAR
VERSION:2.0
PRODID:-//House of Movement - ECPv6.6.4.2//NONSGML v1.0//EN
CALSCALE:GREGORIAN
METHOD:PUBLISH
X-WR-CALNAME:House of Movement
X-ORIGINAL-URL:https://www.houseofmovement.no
X-WR-CALDESC:Arrangement for House of Movement
REFRESH-INTERVAL;VALUE=DURATION:PT1H
X-Robots-Tag:noindex
X-PUBLISHED-TTL:PT1H
BEGIN:VTIMEZONE
TZID:Europe/Oslo
BEGIN:DAYLIGHT
TZOFFSETFROM:+0100
TZOFFSETTO:+0200
TZNAME:CEST
DTSTART:20170326T010000
END:DAYLIGHT
BEGIN:STANDARD
TZOFFSETFROM:+0200
TZOFFSETTO:+0100
TZNAME:CET
DTSTART:20171029T010000
END:STANDARD
END:VTIMEZONE
BEGIN:VEVENT
DTSTART;TZID=Europe/Oslo:20171105T150000
DTEND;TZID=Europe/Oslo:20171105T180000
DTSTAMP:20260422T160242
CREATED:20171102T131226Z
LAST-MODIFIED:20171102T132409Z
UID:39423-1509894000-1509904800@www.houseofmovement.no
SUMMARY:Åpent hus!
DESCRIPTION:Kom innom for åpent hus 5.november! \nVi byr på en kopp te eller kaffe\, noe å bite i og en drøs eller en treningsøkt. \nVi åpner for salg av gavekort denne dagen. I tillegg byr vi på gode tilbud for deg som enten vil snope noe til deg selv\, eller begynne på julegavene ;-) \nVarmt velkommen!
URL:https://www.houseofmovement.no/arrangement/apent-hus/
LOCATION:House of Movement\, St. Svithunsgate 12\, Stavanger\, 4008
ORGANIZER;CN="House of Movement":MAILTO:post@houseofmovement.no
END:VEVENT
END:VCALENDAR