BEGIN:VCALENDAR
VERSION:2.0
PRODID:-//House of Movement - ECPv6.6.4.2//NONSGML v1.0//EN
CALSCALE:GREGORIAN
METHOD:PUBLISH
X-ORIGINAL-URL:https://www.houseofmovement.no
X-WR-CALDESC:Arrangement for House of Movement
REFRESH-INTERVAL;VALUE=DURATION:PT1H
X-Robots-Tag:noindex
X-PUBLISHED-TTL:PT1H
BEGIN:VTIMEZONE
TZID:Europe/Oslo
BEGIN:DAYLIGHT
TZOFFSETFROM:+0100
TZOFFSETTO:+0200
TZNAME:CEST
DTSTART:20170326T010000
END:DAYLIGHT
BEGIN:STANDARD
TZOFFSETFROM:+0200
TZOFFSETTO:+0100
TZNAME:CET
DTSTART:20171029T010000
END:STANDARD
END:VTIMEZONE
BEGIN:VEVENT
DTSTART;TZID=Europe/Oslo:20171015T150000
DTEND;TZID=Europe/Oslo:20171015T190000
DTSTAMP:20260422T124532
CREATED:20171005T140142Z
LAST-MODIFIED:20171005T191032Z
UID:39395-1508079600-1508094000@www.houseofmovement.no
SUMMARY:Åpent hus for TV-aksjonen
DESCRIPTION:TRENING MED MENING! \nHjelp oss å hjelpe: bli med på trening med mening hos oss 15. oktober! \nDenne dagen er alle klassene åpne for alle som både vil gjøre noe godt for kroppen\, og noe godt for andre \nAll betaling er donasjonsbasert. Det vil si du velger selv hvilket beløpt du vil betale\, og hele beløpet går til TV-aksjonen. Du betaler når du kommer. \nTV-aksjonen NRK 2017 går til UNICEF som skal gi flest mulig barn i krig- og konfliktområder en bedre framtid gjennom utdanning. \nVelkommen!
URL:https://www.houseofmovement.no/arrangement/apent-hus-tv-aksjonen/
LOCATION:House of Movement\, St. Svithunsgate 12\, Stavanger\, 4008
ATTACH;FMTTYPE=image/jpeg:https://www.houseofmovement.no/wp-content/uploads/2015/01/houseofmovement.jpg
ORGANIZER;CN="House of Movement":MAILTO:post@houseofmovement.no
END:VEVENT
END:VCALENDAR